BEGIN:VCALENDAR
VERSION:2.0
PRODID:LFV Website-Kit
METHOD:PUBLISH
BEGIN:VEVENT
UID:lfv-0bf75c7e-4755-4027-9031-e41aee3020fa
LOCATION:
SUMMARY:Technischer Dienst
DESCRIPTION:Termin Link: http://ff-pettenreuth.feuerwehren.bayern/termine/technischer-dienst-9/
URL:http://ff-pettenreuth.feuerwehren.bayern/termine/technischer-dienst-9/
CLASS:PRIVATE
DTSTART;TZID=Europe/Berlin:20261008T183000
DTEND;TZID=Europe/Berlin:20261008T193000
DTSTAMP:20260424T065502Z
END:VEVENT
END:VCALENDAR