BEGIN:VCALENDAR
VERSION:2.0
PRODID:LFV Website-Kit
METHOD:PUBLISH
BEGIN:VEVENT
UID:lfv-db06131b-7b61-4a6a-9018-c3f06628b0ac
LOCATION:
SUMMARY:Technischer Dienst
DESCRIPTION:Termin Link: http://ff-pettenreuth.feuerwehren.bayern/termine/technischer-dienst-8/
URL:http://ff-pettenreuth.feuerwehren.bayern/termine/technischer-dienst-8/
CLASS:PRIVATE
DTSTART;TZID=Europe/Berlin:20260910T183000
DTEND;TZID=Europe/Berlin:20260910T193000
DTSTAMP:20260424T014204Z
END:VEVENT
END:VCALENDAR