BEGIN:VCALENDAR
VERSION:2.0
PRODID:LFV Website-Kit
METHOD:PUBLISH
BEGIN:VEVENT
UID:lfv-e620b252-5e32-4a2a-9212-c86ead97aa99
LOCATION:
SUMMARY:Technischer Dienst
DESCRIPTION:Termin Link: http://ff-pettenreuth.feuerwehren.bayern/termine/technischer-dienst-7/
URL:http://ff-pettenreuth.feuerwehren.bayern/termine/technischer-dienst-7/
CLASS:PRIVATE
DTSTART;TZID=Europe/Berlin:20260813T183000
DTEND;TZID=Europe/Berlin:20260813T193000
DTSTAMP:20260424T001918Z
END:VEVENT
END:VCALENDAR