BEGIN:VCALENDAR
VERSION:2.0
PRODID:LFV Website-Kit
METHOD:PUBLISH
BEGIN:VEVENT
UID:lfv-8696b1a1-1048-4dc6-92f5-e3f389845bf5
LOCATION:
SUMMARY:Technischer Dienst
DESCRIPTION:Termin Link: http://ff-pettenreuth.feuerwehren.bayern/termine/technischer-dienst-6/
URL:http://ff-pettenreuth.feuerwehren.bayern/termine/technischer-dienst-6/
CLASS:PRIVATE
DTSTART;TZID=Europe/Berlin:20260709T183000
DTEND;TZID=Europe/Berlin:20260709T193000
DTSTAMP:20260423T164400Z
END:VEVENT
END:VCALENDAR