BEGIN:VCALENDAR
VERSION:2.0
PRODID:LFV Website-Kit
METHOD:PUBLISH
BEGIN:VEVENT
UID:lfv-f29f96ff-4883-4e79-bf5c-b8fab7c055b0
LOCATION:
SUMMARY:Technischer Dienst
DESCRIPTION:Termin Link: http://ff-pettenreuth.feuerwehren.bayern/termine/technischer-dienst-5/
URL:http://ff-pettenreuth.feuerwehren.bayern/termine/technischer-dienst-5/
CLASS:PRIVATE
DTSTART;TZID=Europe/Berlin:20260611T183000
DTEND;TZID=Europe/Berlin:20260611T193000
DTSTAMP:20260423T070358Z
END:VEVENT
END:VCALENDAR