BEGIN:VCALENDAR
VERSION:2.0
PRODID:LFV Website-Kit
METHOD:PUBLISH
BEGIN:VEVENT
UID:lfv-441fe710-55bc-45fd-9f58-4f8e2b8991fc
LOCATION:
SUMMARY:Technischer Dienst
DESCRIPTION:Termin Link: http://ff-pettenreuth.feuerwehren.bayern/termine/technischer-dienst-4/
URL:http://ff-pettenreuth.feuerwehren.bayern/termine/technischer-dienst-4/
CLASS:PRIVATE
DTSTART;TZID=Europe/Berlin:20260514T183000
DTEND;TZID=Europe/Berlin:20260514T193000
DTSTAMP:20260423T011505Z
END:VEVENT
END:VCALENDAR