BEGIN:VCALENDAR
VERSION:2.0
PRODID:LFV Website-Kit
METHOD:PUBLISH
BEGIN:VEVENT
UID:lfv-c61e2f7c-d090-4532-b9af-e058cb06c059
LOCATION:
SUMMARY:Technischer Dienst
DESCRIPTION:Termin Link: http://ff-pettenreuth.feuerwehren.bayern/termine/technischer-dienst-11/
URL:http://ff-pettenreuth.feuerwehren.bayern/termine/technischer-dienst-11/
CLASS:PRIVATE
DTSTART;TZID=Europe/Berlin:20261210T183000
DTEND;TZID=Europe/Berlin:20261210T193000
DTSTAMP:20260424T072033Z
END:VEVENT
END:VCALENDAR