BEGIN:VCALENDAR
VERSION:2.0
PRODID:LFV Website-Kit
METHOD:PUBLISH
BEGIN:VEVENT
UID:lfv-bcf0090b-a062-453d-aaa1-0d0299fa0769
LOCATION:
SUMMARY:Technischer Dienst
DESCRIPTION:Termin Link: http://ff-pettenreuth.feuerwehren.bayern/termine/technischer-dienst-10/
URL:http://ff-pettenreuth.feuerwehren.bayern/termine/technischer-dienst-10/
CLASS:PRIVATE
DTSTART;TZID=Europe/Berlin:20261112T183000
DTEND;TZID=Europe/Berlin:20261112T193000
DTSTAMP:20260424T072026Z
END:VEVENT
END:VCALENDAR