BEGIN:VCALENDAR
VERSION:2.0
PRODID:LFV Website-Kit
METHOD:PUBLISH
BEGIN:VEVENT
UID:lfv-e0b1bfb6-dcdb-4baa-8a07-bd7e5fc16168
LOCATION:
SUMMARY:Sommerfest am Gerätehaus
DESCRIPTION:Termin Link: http://ff-pettenreuth.feuerwehren.bayern/termine/sommerfest-am-geratehaus/
URL:http://ff-pettenreuth.feuerwehren.bayern/termine/sommerfest-am-geratehaus/
CLASS:PRIVATE
DTSTART;TZID=Europe/Berlin:20260613T170000
DTEND;TZID=Europe/Berlin:20260613T180000
DTSTAMP:20260423T101738Z
END:VEVENT
END:VCALENDAR