BEGIN:VCALENDAR
VERSION:2.0
PRODID:LFV Website-Kit
METHOD:PUBLISH
BEGIN:VEVENT
UID:lfv-d0479c4d-16fb-46a2-8f6e-d124ac0c48db
LOCATION:
SUMMARY:Probealarm Sirene
DESCRIPTION:Termin Link: http://ff-pettenreuth.feuerwehren.bayern/termine/probealarm-sirene-12/
URL:http://ff-pettenreuth.feuerwehren.bayern/termine/probealarm-sirene-12/
CLASS:PRIVATE
DTSTART;TZID=Europe/Berlin:20261010T101500
DTEND;TZID=Europe/Berlin:20261010T111500
DTSTAMP:20260424T072338Z
END:VEVENT
END:VCALENDAR