BEGIN:VCALENDAR
VERSION:2.0
PRODID:LFV Website-Kit
METHOD:PUBLISH
BEGIN:VEVENT
UID:lfv-5eaf0e9f-7be0-4070-9261-b45d0f939e86
LOCATION:
SUMMARY:Probealarm Sirene
DESCRIPTION:Termin Link: http://ff-pettenreuth.feuerwehren.bayern/termine/probealarm-sirene-11/
URL:http://ff-pettenreuth.feuerwehren.bayern/termine/probealarm-sirene-11/
CLASS:PRIVATE
DTSTART;TZID=Europe/Berlin:20260704T101500
DTEND;TZID=Europe/Berlin:20260704T111500
DTSTAMP:20260423T145739Z
END:VEVENT
END:VCALENDAR