BEGIN:VCALENDAR
VERSION:2.0
PRODID:LFV Website-Kit
METHOD:PUBLISH
BEGIN:VEVENT
UID:lfv-20c3206c-850b-447a-aadb-c7818a5aaa99
LOCATION:
SUMMARY:Probealarm FME
DESCRIPTION:Termin Link: http://ff-pettenreuth.feuerwehren.bayern/termine/probealarm-fme-35/
URL:http://ff-pettenreuth.feuerwehren.bayern/termine/probealarm-fme-35/
CLASS:PRIVATE
DTSTART;TZID=Europe/Berlin:20261212T101500
DTEND;TZID=Europe/Berlin:20261212T111500
DTSTAMP:20260424T072506Z
END:VEVENT
END:VCALENDAR