BEGIN:VCALENDAR
VERSION:2.0
PRODID:LFV Website-Kit
METHOD:PUBLISH
BEGIN:VEVENT
UID:lfv-662c688b-16a3-4875-8d94-2bd968b87748
LOCATION:
SUMMARY:Probealarm FME
DESCRIPTION:Termin Link: http://ff-pettenreuth.feuerwehren.bayern/termine/probealarm-fme-34/
URL:http://ff-pettenreuth.feuerwehren.bayern/termine/probealarm-fme-34/
CLASS:PRIVATE
DTSTART;TZID=Europe/Berlin:20261114T101500
DTEND;TZID=Europe/Berlin:20261114T111500
DTSTAMP:20260424T072507Z
END:VEVENT
END:VCALENDAR