BEGIN:VCALENDAR
VERSION:2.0
PRODID:LFV Website-Kit
METHOD:PUBLISH
BEGIN:VEVENT
UID:lfv-18760654-7c21-42e1-b193-03bad5e5fdd5
LOCATION:
SUMMARY:Probealarm FME
DESCRIPTION:Termin Link: http://ff-pettenreuth.feuerwehren.bayern/termine/probealarm-fme-33/
URL:http://ff-pettenreuth.feuerwehren.bayern/termine/probealarm-fme-33/
CLASS:PRIVATE
DTSTART;TZID=Europe/Berlin:20260912T101500
DTEND;TZID=Europe/Berlin:20260912T111500
DTSTAMP:20260424T025723Z
END:VEVENT
END:VCALENDAR