BEGIN:VCALENDAR
VERSION:2.0
PRODID:LFV Website-Kit
METHOD:PUBLISH
BEGIN:VEVENT
UID:lfv-2ee16736-1a3c-4c22-9c32-4188b0e85bda
LOCATION:
SUMMARY:Probealarm FME
DESCRIPTION:Termin Link: http://ff-pettenreuth.feuerwehren.bayern/termine/probealarm-fme-32/
URL:http://ff-pettenreuth.feuerwehren.bayern/termine/probealarm-fme-32/
CLASS:PRIVATE
DTSTART;TZID=Europe/Berlin:20260808T101500
DTEND;TZID=Europe/Berlin:20260808T111500
DTSTAMP:20260423T224618Z
END:VEVENT
END:VCALENDAR