BEGIN:VCALENDAR
VERSION:2.0
PRODID:LFV Website-Kit
METHOD:PUBLISH
BEGIN:VEVENT
UID:lfv-5316a46c-9872-4d79-a134-fe1fd497abf1
LOCATION:
SUMMARY:Probealarm FME
DESCRIPTION:Termin Link: http://ff-pettenreuth.feuerwehren.bayern/termine/probealarm-fme-31/
URL:http://ff-pettenreuth.feuerwehren.bayern/termine/probealarm-fme-31/
CLASS:PRIVATE
DTSTART;TZID=Europe/Berlin:20260711T101500
DTEND;TZID=Europe/Berlin:20260711T111500
DTSTAMP:20260423T182711Z
END:VEVENT
END:VCALENDAR