BEGIN:VCALENDAR
VERSION:2.0
PRODID:LFV Website-Kit
METHOD:PUBLISH
BEGIN:VEVENT
UID:lfv-de318ce6-789e-4120-b763-918f6e325897
LOCATION:
SUMMARY:Probealarm FME
DESCRIPTION:Termin Link: http://ff-pettenreuth.feuerwehren.bayern/termine/probealarm-fme-30/
URL:http://ff-pettenreuth.feuerwehren.bayern/termine/probealarm-fme-30/
CLASS:PRIVATE
DTSTART;TZID=Europe/Berlin:20260613T101500
DTEND;TZID=Europe/Berlin:20260613T111500
DTSTAMP:20260423T083450Z
END:VEVENT
END:VCALENDAR