BEGIN:VCALENDAR
VERSION:2.0
PRODID:LFV Website-Kit
METHOD:PUBLISH
BEGIN:VEVENT
UID:lfv-a1085a37-d308-405e-8828-04b7882c671f
LOCATION:
SUMMARY:Probealarm FME
DESCRIPTION:Termin Link: http://ff-pettenreuth.feuerwehren.bayern/termine/probealarm-fme-29/
URL:http://ff-pettenreuth.feuerwehren.bayern/termine/probealarm-fme-29/
CLASS:PRIVATE
DTSTART;TZID=Europe/Berlin:20260509T101500
DTEND;TZID=Europe/Berlin:20260509T111500
DTSTAMP:20260422T235005Z
END:VEVENT
END:VCALENDAR