BEGIN:VCALENDAR
VERSION:2.0
PRODID:LFV Website-Kit
METHOD:PUBLISH
BEGIN:VEVENT
UID:lfv-71e42e60-7f45-4375-890f-86a46e2ada91
LOCATION:
SUMMARY:Pettenreuther Dorfweihnacht
DESCRIPTION:Termin Link: http://ff-pettenreuth.feuerwehren.bayern/termine/pettenreuther-dorfweihnacht-3/
URL:http://ff-pettenreuth.feuerwehren.bayern/termine/pettenreuther-dorfweihnacht-3/
CLASS:PRIVATE
DTSTART;TZID=Europe/Berlin:20261205T170000
DTEND;TZID=Europe/Berlin:20261205T180000
DTSTAMP:20260424T072701Z
END:VEVENT
END:VCALENDAR