BEGIN:VCALENDAR
VERSION:2.0
PRODID:LFV Website-Kit
METHOD:PUBLISH
BEGIN:VEVENT
UID:lfv-aded3f35-5dc0-4b32-8452-1f2acd6b8426
LOCATION:
SUMMARY:Monatsausbildung der Aktiven
DESCRIPTION:Termin Link: http://ff-pettenreuth.feuerwehren.bayern/termine/monatsausbildung-der-aktiven-8/
URL:http://ff-pettenreuth.feuerwehren.bayern/termine/monatsausbildung-der-aktiven-8/
CLASS:PRIVATE
DTSTART;TZID=Europe/Berlin:20261022T193000
DTEND;TZID=Europe/Berlin:20261022T203000
DTSTAMP:20260424T072620Z
END:VEVENT
END:VCALENDAR