BEGIN:VCALENDAR
VERSION:2.0
PRODID:LFV Website-Kit
METHOD:PUBLISH
BEGIN:VEVENT
UID:lfv-288ec1f4-9362-4718-ad76-7bb8bac9c71b
LOCATION:
SUMMARY:Monatsausbildung der Aktiven
DESCRIPTION:Termin Link: http://ff-pettenreuth.feuerwehren.bayern/termine/monatsausbildung-der-aktiven-7/
URL:http://ff-pettenreuth.feuerwehren.bayern/termine/monatsausbildung-der-aktiven-7/
CLASS:PRIVATE
DTSTART;TZID=Europe/Berlin:20260924T193000
DTEND;TZID=Europe/Berlin:20260924T203000
DTSTAMP:20260424T053911Z
END:VEVENT
END:VCALENDAR