BEGIN:VCALENDAR
VERSION:2.0
PRODID:LFV Website-Kit
METHOD:PUBLISH
BEGIN:VEVENT
UID:lfv-9cb21c0a-91e3-4ab2-addc-33dcd842f6d5
LOCATION:
SUMMARY:Monatsausbildung der Aktiven
DESCRIPTION:Termin Link: http://ff-pettenreuth.feuerwehren.bayern/termine/monatsausbildung-der-aktiven-6/
URL:http://ff-pettenreuth.feuerwehren.bayern/termine/monatsausbildung-der-aktiven-6/
CLASS:PRIVATE
DTSTART;TZID=Europe/Berlin:20260716T193000
DTEND;TZID=Europe/Berlin:20260716T203000
DTSTAMP:20260423T211928Z
END:VEVENT
END:VCALENDAR