BEGIN:VCALENDAR
VERSION:2.0
PRODID:LFV Website-Kit
METHOD:PUBLISH
BEGIN:VEVENT
UID:lfv-9c63aacf-5274-4b32-b5e3-f15815b1723d
LOCATION:
SUMMARY:Monatsausbildung der Aktiven
DESCRIPTION:Termin Link: http://ff-pettenreuth.feuerwehren.bayern/termine/monatsausbildung-der-aktiven-4/
URL:http://ff-pettenreuth.feuerwehren.bayern/termine/monatsausbildung-der-aktiven-4/
CLASS:PRIVATE
DTSTART;TZID=Europe/Berlin:20260521T193000
DTEND;TZID=Europe/Berlin:20260521T203000
DTSTAMP:20260423T053133Z
END:VEVENT
END:VCALENDAR