BEGIN:VCALENDAR
VERSION:2.0
PRODID:LFV Website-Kit
METHOD:PUBLISH
BEGIN:VEVENT
UID:lfv-412c91a1-d79e-4c63-b6cf-3d61edd63562
LOCATION:
SUMMARY:Monatsausbildung der Aktiven
DESCRIPTION:Termin Link: http://ff-pettenreuth.feuerwehren.bayern/termine/monatsausbildung-der-aktiven-3/
URL:http://ff-pettenreuth.feuerwehren.bayern/termine/monatsausbildung-der-aktiven-3/
CLASS:PRIVATE
DTSTART;TZID=Europe/Berlin:20260423T193000
DTEND;TZID=Europe/Berlin:20260423T203000
DTSTAMP:20260422T235050Z
END:VEVENT
END:VCALENDAR