BEGIN:VCALENDAR
VERSION:2.0
PRODID:LFV Website-Kit
METHOD:PUBLISH
BEGIN:VEVENT
UID:lfv-7926c1f8-420d-4a86-95ee-1155aaa8aae0
LOCATION:
SUMMARY:Jugendausbildung
DESCRIPTION:Termin Link: http://ff-pettenreuth.feuerwehren.bayern/termine/jugendausbildung-27/
URL:http://ff-pettenreuth.feuerwehren.bayern/termine/jugendausbildung-27/
CLASS:PRIVATE
DTSTART;TZID=Europe/Berlin:20261119T180000
DTEND;TZID=Europe/Berlin:20261119T190000
DTSTAMP:20260424T072308Z
END:VEVENT
END:VCALENDAR