BEGIN:VCALENDAR
VERSION:2.0
PRODID:LFV Website-Kit
METHOD:PUBLISH
BEGIN:VEVENT
UID:lfv-571d45bf-eff7-4d92-b146-e628dc719845
LOCATION:
SUMMARY:Jugendausbildung
DESCRIPTION:Termin Link: http://ff-pettenreuth.feuerwehren.bayern/termine/jugendausbildung-26/
URL:http://ff-pettenreuth.feuerwehren.bayern/termine/jugendausbildung-26/
CLASS:PRIVATE
DTSTART;TZID=Europe/Berlin:20261022T180000
DTEND;TZID=Europe/Berlin:20261022T190000
DTSTAMP:20260424T072307Z
END:VEVENT
END:VCALENDAR