BEGIN:VCALENDAR
VERSION:2.0
PRODID:LFV Website-Kit
METHOD:PUBLISH
BEGIN:VEVENT
UID:lfv-5247eb1e-5f6f-4d47-89e7-00a64bca3dd9
LOCATION:
SUMMARY:Jugendausbildung
DESCRIPTION:Termin Link: http://ff-pettenreuth.feuerwehren.bayern/termine/jugendausbildung-25/
URL:http://ff-pettenreuth.feuerwehren.bayern/termine/jugendausbildung-25/
CLASS:PRIVATE
DTSTART;TZID=Europe/Berlin:20260924T180000
DTEND;TZID=Europe/Berlin:20260924T190000
DTSTAMP:20260424T041636Z
END:VEVENT
END:VCALENDAR