BEGIN:VCALENDAR
VERSION:2.0
PRODID:LFV Website-Kit
METHOD:PUBLISH
BEGIN:VEVENT
UID:lfv-94725d5d-7862-4d43-902b-133c21ce2b74
LOCATION:
SUMMARY:Jugendausbildung
DESCRIPTION:Termin Link: http://ff-pettenreuth.feuerwehren.bayern/termine/jugendausbildung-24/
URL:http://ff-pettenreuth.feuerwehren.bayern/termine/jugendausbildung-24/
CLASS:PRIVATE
DTSTART;TZID=Europe/Berlin:20260716T180000
DTEND;TZID=Europe/Berlin:20260716T190000
DTSTAMP:20260423T195630Z
END:VEVENT
END:VCALENDAR