BEGIN:VCALENDAR
VERSION:2.0
PRODID:LFV Website-Kit
METHOD:PUBLISH
BEGIN:VEVENT
UID:lfv-ea5f1c73-aa6c-4cc5-91ec-13ed11562512
LOCATION:
SUMMARY:Jugendausbildung
DESCRIPTION:Termin Link: http://ff-pettenreuth.feuerwehren.bayern/termine/jugendausbildung-23/
URL:http://ff-pettenreuth.feuerwehren.bayern/termine/jugendausbildung-23/
CLASS:PRIVATE
DTSTART;TZID=Europe/Berlin:20260618T180000
DTEND;TZID=Europe/Berlin:20260618T190000
DTSTAMP:20260423T115103Z
END:VEVENT
END:VCALENDAR