BEGIN:VCALENDAR
VERSION:2.0
PRODID:LFV Website-Kit
METHOD:PUBLISH
BEGIN:VEVENT
UID:lfv-fac9be37-42d7-4bd4-9f81-1379521ff8c0
LOCATION:
SUMMARY:Jugendausbildung
DESCRIPTION:Termin Link: http://ff-pettenreuth.feuerwehren.bayern/termine/jugendausbildung-22/
URL:http://ff-pettenreuth.feuerwehren.bayern/termine/jugendausbildung-22/
CLASS:PRIVATE
DTSTART;TZID=Europe/Berlin:20260521T180000
DTEND;TZID=Europe/Berlin:20260521T190000
DTSTAMP:20260423T041615Z
END:VEVENT
END:VCALENDAR