BEGIN:VCALENDAR
VERSION:2.0
PRODID:LFV Website-Kit
METHOD:PUBLISH
BEGIN:VEVENT
UID:lfv-ef9a18a5-98ea-46e6-8059-04e191654eab
LOCATION:
SUMMARY:Jugendausbildung
DESCRIPTION:Termin Link: http://ff-pettenreuth.feuerwehren.bayern/termine/jugendausbildung-21/
URL:http://ff-pettenreuth.feuerwehren.bayern/termine/jugendausbildung-21/
CLASS:PRIVATE
DTSTART;TZID=Europe/Berlin:20260428T180000
DTEND;TZID=Europe/Berlin:20260428T190000
DTSTAMP:20260422T234708Z
END:VEVENT
END:VCALENDAR