BEGIN:VCALENDAR
VERSION:2.0
PRODID:LFV Website-Kit
METHOD:PUBLISH
BEGIN:VEVENT
UID:lfv-90dcf1c0-8dd0-4b61-a163-496d38634718
LOCATION:
SUMMARY:Jahresabschluss der Jugendgruppe und aktiven Mannschaft
DESCRIPTION:Termin Link: http://ff-pettenreuth.feuerwehren.bayern/termine/jahresabschluss-der-jugendgruppe-und-aktiven-mannschaft/
URL:http://ff-pettenreuth.feuerwehren.bayern/termine/jahresabschluss-der-jugendgruppe-und-aktiven-mannschaft/
CLASS:PRIVATE
DTSTART;TZID=Europe/Berlin:20261127T180000
DTEND;TZID=Europe/Berlin:20261127T190000
DTSTAMP:20260424T072729Z
END:VEVENT
END:VCALENDAR