BEGIN:VCALENDAR
VERSION:2.0
PRODID:LFV Website-Kit
METHOD:PUBLISH
BEGIN:VEVENT
UID:lfv-3694c18d-27ec-4675-8d73-4027be53d0be
LOCATION:
SUMMARY:Florianstag des KBM Bezirks 3 in Hauzenstein
DESCRIPTION:Termin Link: http://ff-pettenreuth.feuerwehren.bayern/termine/florianstag-des-kbm-bezirks-3-in-hauzenstein/
URL:http://ff-pettenreuth.feuerwehren.bayern/termine/florianstag-des-kbm-bezirks-3-in-hauzenstein/
CLASS:PRIVATE
DTSTART;TZID=Europe/Berlin:20260516T170000
DTEND;TZID=Europe/Berlin:20260516T180000
DTSTAMP:20260423T024640Z
END:VEVENT
END:VCALENDAR